BEGIN:VCALENDAR
VERSION:2.0
PRODID:-//eventon.com NONSGML v1.0//EN
CALSCALE:GREGORIAN
METHOD:PUBLISH
BEGIN:VEVENT
UID:69e4f9627aa23
DTSTAMP:20260419T154850Z
DTSTART:20220125
DTEND:20220126
LOCATION:New Roots Charter School 116 N. Cayuga Street
SUMMARY:Regents Week (No Classes)
DESCRIPTION:Regents Week (No Classes)\nhttps://newrootsschool.org/latest-ne
 ws-and-events/regents-week-no-classes/
URL:https://newrootsschool.org/latest-news-and-events/regents-week-no-classes/
END:VEVENT
END:VCALENDAR