BEGIN:VCALENDAR
VERSION:2.0
PRODID:-//eventon.com NONSGML v1.0//EN
CALSCALE:GREGORIAN
METHOD:PUBLISH
BEGIN:VEVENT
UID:69eb7aad57656
DTSTAMP:20260424T141405Z
DTSTART:20180216
DTEND:20180217
LOCATION:
SUMMARY:Grant due for Title $$
DESCRIPTION:Grant due for Title $$\nhttps://newrootsschool.org/latest-news-
 and-events/grant-due-for-title/
URL:https://newrootsschool.org/latest-news-and-events/grant-due-for-title/
END:VEVENT
END:VCALENDAR