BEGIN:VCALENDAR
VERSION:2.0
PRODID:-//eventon.com NONSGML v1.0//EN
CALSCALE:GREGORIAN
METHOD:PUBLISH
BEGIN:VEVENT
UID:69e874abb1590
DTSTAMP:20260422T071139Z
DTSTART:20171026T220000Z
DTEND:20171026T233000Z
LOCATION:
SUMMARY:Board of Trustees Meeting
DESCRIPTION:Board of Trustees Meeting\nhttps://newrootsschool.org/latest-ne
 ws-and-events/board-of-trustees-meeting/
URL:https://newrootsschool.org/latest-news-and-events/board-of-trustees-meeting/
END:VEVENT
END:VCALENDAR